BEGIN:VCALENDAR
VERSION:2.0
PRODID:-//Saint Veronica Catholic Church - ECPv5.0.0.2//NONSGML v1.0//EN
CALSCALE:GREGORIAN
METHOD:PUBLISH
X-WR-CALNAME:Saint Veronica Catholic Church
X-ORIGINAL-URL:https://stveronica.net
X-WR-CALDESC:Events for Saint Veronica Catholic Church
BEGIN:VTIMEZONE
TZID:America/New_York
BEGIN:DAYLIGHT
TZOFFSETFROM:-0500
TZOFFSETTO:-0400
TZNAME:EDT
DTSTART:20230312T070000
END:DAYLIGHT
BEGIN:STANDARD
TZOFFSETFROM:-0400
TZOFFSETTO:-0500
TZNAME:EST
DTSTART:20231105T060000
END:STANDARD
END:VTIMEZONE
BEGIN:VEVENT
DTSTART;TZID=America/New_York:20231111T190000
DTEND;TZID=America/New_York:20231111T220000
DTSTAMP:20260421T100540
CREATED:20231004T181642Z
LAST-MODIFIED:20231004T181642Z
UID:8515-1699729200-1699740000@stveronica.net
SUMMARY:Knights of Columbus Casino Knight
DESCRIPTION:Join us on Saturday\, Nov. 11th\, from 7-10 p.m. in the parish hall for this adults only\, fun event that supports our St. Veronica School scholarships. Check out the flyer for more details. \n  \nSt V casino Ticket flyer – 2023 (2) \n
URL:https://stveronica.net/event/knights-of-columbus-casino-knight/
END:VEVENT
END:VCALENDAR