BEGIN:VCALENDAR
VERSION:2.0
PRODID:-//Saint Veronica Catholic Church - ECPv5.0.0.2//NONSGML v1.0//EN
CALSCALE:GREGORIAN
METHOD:PUBLISH
X-WR-CALNAME:Saint Veronica Catholic Church
X-ORIGINAL-URL:https://stveronica.net
X-WR-CALDESC:Events for Saint Veronica Catholic Church
BEGIN:VTIMEZONE
TZID:America/New_York
BEGIN:DAYLIGHT
TZOFFSETFROM:-0500
TZOFFSETTO:-0400
TZNAME:EDT
DTSTART:20190310T070000
END:DAYLIGHT
BEGIN:STANDARD
TZOFFSETFROM:-0400
TZOFFSETTO:-0500
TZNAME:EST
DTSTART:20191103T060000
END:STANDARD
END:VTIMEZONE
BEGIN:VEVENT
DTSTART;TZID=America/New_York:20191020T080000
DTEND;TZID=America/New_York:20191020T120000
DTSTAMP:20260422T083533
CREATED:20190910T123557Z
LAST-MODIFIED:20190910T123558Z
UID:3432-1571558400-1571572800@stveronica.net
SUMMARY:MESA Personal Items Drive Ends
DESCRIPTION:
URL:https://stveronica.net/event/mesa-personal-items-drive-ends/
LOCATION:St. Veronica Church Vestibules\, 3460 Centreville Road\, Chantilly\, VA\, 20151\, United States
END:VEVENT
END:VCALENDAR