BEGIN:VCALENDAR
VERSION:2.0
PRODID:-//Saint Veronica Catholic Church - ECPv5.0.0.2//NONSGML v1.0//EN
CALSCALE:GREGORIAN
METHOD:PUBLISH
X-WR-CALNAME:Saint Veronica Catholic Church
X-ORIGINAL-URL:https://stveronica.net
X-WR-CALDESC:Events for Saint Veronica Catholic Church
BEGIN:VTIMEZONE
TZID:America/New_York
BEGIN:DAYLIGHT
TZOFFSETFROM:-0500
TZOFFSETTO:-0400
TZNAME:EDT
DTSTART:20190310T070000
END:DAYLIGHT
BEGIN:STANDARD
TZOFFSETFROM:-0400
TZOFFSETTO:-0500
TZNAME:EST
DTSTART:20191103T060000
END:STANDARD
END:VTIMEZONE
BEGIN:VEVENT
DTSTART;VALUE=DATE:20191014
DTEND;VALUE=DATE:20191015
DTSTAMP:20260420T084042
CREATED:20190821T152310Z
LAST-MODIFIED:20190821T154413Z
UID:3372-1571011200-1571097599@stveronica.net
SUMMARY:NO RE Classes
DESCRIPTION:No RE. \n
URL:https://stveronica.net/event/no-re-classes/
CATEGORIES:Religious Education
END:VEVENT
BEGIN:VEVENT
DTSTART;VALUE=DATE:20191014
DTEND;VALUE=DATE:20191015
DTSTAMP:20260420T084042
CREATED:20191008T130302Z
LAST-MODIFIED:20191008T130303Z
UID:3596-1571011200-1571097599@stveronica.net
SUMMARY:Columbus Day Schedule:  Only one Mass @ 8:30 am and no 11:30 am Confessions.
DESCRIPTION:The parish office and school are closed. \n
URL:https://stveronica.net/event/columbus-day-schedule-only-one-mass-830-am-and-no-1130-am-confessions/
LOCATION:St. Veronica Catholic Church & Parish Office
ORGANIZER;CN="St.%20Veronica%20Parish":MAILTO:info@stveronica.net
END:VEVENT
BEGIN:VEVENT
DTSTART;TZID=America/New_York:20191014T110000
DTEND;TZID=America/New_York:20191014T203000
DTSTAMP:20260420T084042
CREATED:20190910T123829Z
LAST-MODIFIED:20190910T123829Z
UID:3434-1571050800-1571085000@stveronica.net
SUMMARY:15th Annual Golf Tournament to Benefit Children & Staff of St. Veronica School
DESCRIPTION:
URL:https://stveronica.net/event/15th-annual-golf-tournament-to-benefit-children-staff-of-st-veronica-school/
LOCATION:Chantilly National Golf & Country Club\, 14901 Braddock Rd.\, Centreville\, Virginia\, 20120
END:VEVENT
END:VCALENDAR