BEGIN:VCALENDAR
VERSION:2.0
PRODID:-//Saint Veronica Catholic Church - ECPv5.0.0.2//NONSGML v1.0//EN
CALSCALE:GREGORIAN
METHOD:PUBLISH
X-WR-CALNAME:Saint Veronica Catholic Church
X-ORIGINAL-URL:https://stveronica.net
X-WR-CALDESC:Events for Saint Veronica Catholic Church
BEGIN:VTIMEZONE
TZID:America/New_York
BEGIN:DAYLIGHT
TZOFFSETFROM:-0500
TZOFFSETTO:-0400
TZNAME:EDT
DTSTART:20200308T070000
END:DAYLIGHT
BEGIN:STANDARD
TZOFFSETFROM:-0400
TZOFFSETTO:-0500
TZNAME:EST
DTSTART:20201101T060000
END:STANDARD
END:VTIMEZONE
BEGIN:VEVENT
DTSTART;TZID=America/New_York:20200113T190000
DTEND;TZID=America/New_York:20200113T203000
DTSTAMP:20260420T042310
CREATED:20191231T161932Z
LAST-MODIFIED:20191231T161933Z
UID:3943-1578942000-1578947400@stveronica.net
SUMMARY:The Young and Religion - Signs for Hope?  Discussion Hosted by Patricians
DESCRIPTION:
URL:https://stveronica.net/event/the-young-and-religion-signs-for-hope-discussion-hosted-by-patricians/
LOCATION:Acolyte Room
END:VEVENT
END:VCALENDAR