BEGIN:VCALENDAR
VERSION:2.0
PRODID:-//Saint Veronica Catholic Church - ECPv5.0.0.2//NONSGML v1.0//EN
CALSCALE:GREGORIAN
METHOD:PUBLISH
X-WR-CALNAME:Saint Veronica Catholic Church
X-ORIGINAL-URL:https://stveronica.net
X-WR-CALDESC:Events for Saint Veronica Catholic Church
BEGIN:VTIMEZONE
TZID:America/New_York
BEGIN:DAYLIGHT
TZOFFSETFROM:-0500
TZOFFSETTO:-0400
TZNAME:EDT
DTSTART:20200308T070000
END:DAYLIGHT
BEGIN:STANDARD
TZOFFSETFROM:-0400
TZOFFSETTO:-0500
TZNAME:EST
DTSTART:20201101T060000
END:STANDARD
END:VTIMEZONE
BEGIN:VEVENT
DTSTART;TZID=America/New_York:20200629T190000
DTEND;TZID=America/New_York:20200629T203000
DTSTAMP:20260419T193120
CREATED:20200619T143319Z
LAST-MODIFIED:20200622T140617Z
UID:4656-1593457200-1593462600@stveronica.net
SUMMARY:Flannery & Friends:  Summer Reading Group with Seminarian Mike Nugent
DESCRIPTION:Contact Mike Nugent\, seminarian.mike.nugent@gmail.com. \n
URL:https://stveronica.net/event/flannery-friends-summer-reading-group-with-seminarian-mike-nugen/
LOCATION:Parish Hall & Zoom\, 3460 Centreville Road\, Chantilly\, VA\, 20151\, United States
END:VEVENT
END:VCALENDAR