BEGIN:VCALENDAR
VERSION:2.0
PRODID:-//Saint Veronica Catholic Church - ECPv5.0.0.2//NONSGML v1.0//EN
CALSCALE:GREGORIAN
METHOD:PUBLISH
X-WR-CALNAME:Saint Veronica Catholic Church
X-ORIGINAL-URL:https://stveronica.net
X-WR-CALDESC:Events for Saint Veronica Catholic Church
BEGIN:VTIMEZONE
TZID:America/New_York
BEGIN:DAYLIGHT
TZOFFSETFROM:-0500
TZOFFSETTO:-0400
TZNAME:EDT
DTSTART:20260308T070000
END:DAYLIGHT
BEGIN:STANDARD
TZOFFSETFROM:-0400
TZOFFSETTO:-0500
TZNAME:EST
DTSTART:20261101T060000
END:STANDARD
END:VTIMEZONE
BEGIN:VEVENT
DTSTART;TZID=America/New_York:20260615T180000
DTEND;TZID=America/New_York:20260615T193000
DTSTAMP:20260423T130203
CREATED:20260422T192852Z
LAST-MODIFIED:20260422T192852Z
UID:10188-1781546400-1781551800@stveronica.net
SUMMARY:2026 Adult Summer School of Catechesis
DESCRIPTION:
URL:https://stveronica.net/event/2026-adult-summer-school-of-catechesis/
LOCATION:Parish Hall
ATTACH;FMTTYPE=image/jpeg:https://stveronica.net/wp-content/uploads/2026/04/adult-summer-school-flyer-2026.jpg
END:VEVENT
END:VCALENDAR